BEGIN:VCALENDAR
VERSION:2.0
PRODID:-//Musée d&#039;art et d&#039;histoire Paul Eluard - ECPv6.15.17.1//NONSGML v1.0//EN
CALSCALE:GREGORIAN
METHOD:PUBLISH
X-WR-CALNAME:Musée d&#039;art et d&#039;histoire Paul Eluard
X-ORIGINAL-URL:https://musee-saint-denis.com
X-WR-CALDESC:Évènements pour Musée d&#039;art et d&#039;histoire Paul Eluard
REFRESH-INTERVAL;VALUE=DURATION:PT1H
X-Robots-Tag:noindex
X-PUBLISHED-TTL:PT1H
BEGIN:VTIMEZONE
TZID:Europe/Paris
BEGIN:DAYLIGHT
TZOFFSETFROM:+0100
TZOFFSETTO:+0200
TZNAME:CEST
DTSTART:20240331T010000
END:DAYLIGHT
BEGIN:STANDARD
TZOFFSETFROM:+0200
TZOFFSETTO:+0100
TZNAME:CET
DTSTART:20241027T010000
END:STANDARD
BEGIN:DAYLIGHT
TZOFFSETFROM:+0100
TZOFFSETTO:+0200
TZNAME:CEST
DTSTART:20250330T010000
END:DAYLIGHT
BEGIN:STANDARD
TZOFFSETFROM:+0200
TZOFFSETTO:+0100
TZNAME:CET
DTSTART:20251026T010000
END:STANDARD
BEGIN:DAYLIGHT
TZOFFSETFROM:+0100
TZOFFSETTO:+0200
TZNAME:CEST
DTSTART:20260329T010000
END:DAYLIGHT
BEGIN:STANDARD
TZOFFSETFROM:+0200
TZOFFSETTO:+0100
TZNAME:CET
DTSTART:20261025T010000
END:STANDARD
END:VTIMEZONE
BEGIN:VEVENT
DTSTART;VALUE=DATE:20250320
DTEND;VALUE=DATE:20250517
DTSTAMP:20260424T213057
CREATED:20250320T092753Z
LAST-MODIFIED:20250320T094028Z
UID:12266-1742428800-1747439999@musee-saint-denis.com
SUMMARY:Cartes blanches | Le Carmel t'appelle
DESCRIPTION:Nouveauté de cette année ! Lors de trois soirées\, le musée donne carte blanche sur la programmation à trois associations culturelles de Seine-Saint-Denis. Les candidatures sont possibles jusqu’au 16 mai. \nRetrouvez les propositions lors des nocturnes les jeudis 26 juin\, 31 juillet et 28 août. \n  \nRetrouvez toute la programmation dans l’agenda !
URL:https://musee-saint-denis.com/event/cartes-blanches-le-carmel-tappelle/
CATEGORIES:événements,special pour agenda
ATTACH;FMTTYPE=image/jpeg:https://musee-saint-denis.com/wp-content/uploads/2014/06/Cloitre-HD-631.jpg
END:VEVENT
BEGIN:VEVENT
DTSTART;TZID=Europe/Paris:20250320T183000
DTEND;TZID=Europe/Paris:20250320T193000
DTSTAMP:20260424T213057
CREATED:20250225T125841Z
LAST-MODIFIED:20250225T130206Z
UID:12007-1742495400-1742499000@musee-saint-denis.com
SUMMARY:Regard d'artistes sur les collections | Sarah Tritz
DESCRIPTION:Tous les trimestres\, un artiste s’empare d’un objet issu des collections du musée d’art et d’histoire Paul-Eluard de Saint-Denis pour le mettre en perspective dans son propre travail. \nFormée aux beaux-arts de Lyon\, enseignante à l’ENSAD\, Sarah Tritz développe depuis une vingtaine d’années une pratique plastique protéiforme mêlant plusieurs types de médias et de matériaux. Sculptures plates en bois représentant des bustes\, céramiques-dinosaures\, tablettes météorologiques très simplement exécutées… Elle crée une variété d’objets qui sont la plupart du temps des « copies non conformes » de jouets en plastiques très colorés. La base de son activité reste le dessin : outil principal de sa réflexion plastique et conceptuelle\, il opère comme une écriture archaïque et minimale. Son travail a été montré dans de nombreuses expositions en France comme à l’étranger : à la Tôlerie (Clermont-Ferrand)\, au Crédac (Ivry-sur-Seine)\, à la Galerie (Noisy-le-Sec)\, à la Casa Jorn (Albisola)\, au MAMCO (Genève)\, au MRAC (Sérignan)\, au Palais de Tokyo (Paris)…
URL:https://musee-saint-denis.com/event/regard-dartistes-sur-les-collections-sarah-tritz/
CATEGORIES:conferences colloques,special pour agenda
ATTACH;FMTTYPE=image/jpeg:https://musee-saint-denis.com/wp-content/uploads/2025/02/couverture_Tritz_Matinee_2_2023-scaled.jpg
END:VEVENT
END:VCALENDAR