BEGIN:VCALENDAR
VERSION:2.0
PRODID:-//Musée d&#039;art et d&#039;histoire Paul Eluard - ECPv6.15.17.1//NONSGML v1.0//EN
CALSCALE:GREGORIAN
METHOD:PUBLISH
X-ORIGINAL-URL:https://musee-saint-denis.com
X-WR-CALDESC:Évènements pour Musée d&#039;art et d&#039;histoire Paul Eluard
REFRESH-INTERVAL;VALUE=DURATION:PT1H
X-Robots-Tag:noindex
X-PUBLISHED-TTL:PT1H
BEGIN:VTIMEZONE
TZID:Europe/Paris
BEGIN:DAYLIGHT
TZOFFSETFROM:+0100
TZOFFSETTO:+0200
TZNAME:CEST
DTSTART:20250330T010000
END:DAYLIGHT
BEGIN:STANDARD
TZOFFSETFROM:+0200
TZOFFSETTO:+0100
TZNAME:CET
DTSTART:20251026T010000
END:STANDARD
BEGIN:DAYLIGHT
TZOFFSETFROM:+0100
TZOFFSETTO:+0200
TZNAME:CEST
DTSTART:20260329T010000
END:DAYLIGHT
BEGIN:STANDARD
TZOFFSETFROM:+0200
TZOFFSETTO:+0100
TZNAME:CET
DTSTART:20261025T010000
END:STANDARD
BEGIN:DAYLIGHT
TZOFFSETFROM:+0100
TZOFFSETTO:+0200
TZNAME:CEST
DTSTART:20270328T010000
END:DAYLIGHT
BEGIN:STANDARD
TZOFFSETFROM:+0200
TZOFFSETTO:+0100
TZNAME:CET
DTSTART:20271031T010000
END:STANDARD
END:VTIMEZONE
BEGIN:VEVENT
DTSTART;TZID=Europe/Paris:20260428T140000
DTEND;TZID=Europe/Paris:20260428T153000
DTSTAMP:20260423T213813
CREATED:20260219T144041Z
LAST-MODIFIED:20260219T144041Z
UID:13394-1777384800-1777390200@musee-saint-denis.com
SUMMARY:Visite-atelier en famille | Affiche ton féminisme
DESCRIPTION:Découvrez en famille l’histoire de la Commune de Paris\, une révolte populaire au cours de laquelle des femmes se sont battues : Louise Michel et tant d’autres cantinières\, infirmières et couturières. Pourquoi ont-elles pris les armes ? Quels étaient leurs combats ? Comment résonnent-ils aujourd’hui ? \nLa visite sera suivi d’un atelier portant sur la création d’affiches pour les droits des filles et des femmes. \nÀ partir de 7 ans. \n  \nRetrouvez toute la programmation dans l’agenda !
URL:https://musee-saint-denis.com/event/visite-atelier-en-famille-affiche-ton-feminisme-2/
CATEGORIES:special pour agenda,visites balades ateliers
END:VEVENT
END:VCALENDAR