BEGIN:VCALENDAR
VERSION:2.0
PRODID:-//Musée d&#039;art et d&#039;histoire Paul Eluard - ECPv6.15.17.1//NONSGML v1.0//EN
CALSCALE:GREGORIAN
METHOD:PUBLISH
X-WR-CALNAME:Musée d&#039;art et d&#039;histoire Paul Eluard
X-ORIGINAL-URL:https://musee-saint-denis.com
X-WR-CALDESC:Évènements pour Musée d&#039;art et d&#039;histoire Paul Eluard
REFRESH-INTERVAL;VALUE=DURATION:PT1H
X-Robots-Tag:noindex
X-PUBLISHED-TTL:PT1H
BEGIN:VTIMEZONE
TZID:Europe/Paris
BEGIN:DAYLIGHT
TZOFFSETFROM:+0100
TZOFFSETTO:+0200
TZNAME:CEST
DTSTART:20250330T010000
END:DAYLIGHT
BEGIN:STANDARD
TZOFFSETFROM:+0200
TZOFFSETTO:+0100
TZNAME:CET
DTSTART:20251026T010000
END:STANDARD
BEGIN:DAYLIGHT
TZOFFSETFROM:+0100
TZOFFSETTO:+0200
TZNAME:CEST
DTSTART:20260329T010000
END:DAYLIGHT
BEGIN:STANDARD
TZOFFSETFROM:+0200
TZOFFSETTO:+0100
TZNAME:CET
DTSTART:20261025T010000
END:STANDARD
BEGIN:DAYLIGHT
TZOFFSETFROM:+0100
TZOFFSETTO:+0200
TZNAME:CEST
DTSTART:20270328T010000
END:DAYLIGHT
BEGIN:STANDARD
TZOFFSETFROM:+0200
TZOFFSETTO:+0100
TZNAME:CET
DTSTART:20271031T010000
END:STANDARD
END:VTIMEZONE
BEGIN:VEVENT
DTSTART;TZID=Europe/Paris:20260430T183000
DTEND;TZID=Europe/Paris:20260430T200000
DTSTAMP:20260423T230239
CREATED:20260410T101657Z
LAST-MODIFIED:20260410T101657Z
UID:13438-1777573800-1777579200@musee-saint-denis.com
SUMMARY:Conférence | Présentation de l'ouvrage "Réfugiés et apatrides\, dans les fonds des Archives diplomatiques et de l'OFPRA"
DESCRIPTION:En collaboration avec le Centre des Archives diplomatiques de La Courneuve\, le musée accueille la présentation de l’ouvrage Réfugiés et apatrides\, dans les fonds des Archives diplomatiques et de l’Ofpra. \nEn présence des auteurs Aline Angoustures\, ancienne responsable des archives de l’Ofpra\, et Pierre Marchandin\, conservateur du patrimoine aux Archives diplomatiques\, avec la participation de Claire Mouradian\, directrice de recherche émérite au CNRS. La table-ronde est animée par Sylvie Le Clech\, directrice adjointe des Archives diplomatiques. \n  \nCe guide\, fruit d’une collaboration entre la direction des Archives diplomatiques et l’Ofpra\, rassemble les informations nécessaires pour s’orienter dans les fonds relatifs aux réfugiés et apatrides produits entre 1922\, date de la création du premier statut international de réfugié\, et 2007\, date de la fin de la tutelle du ministère des Affaires étrangères sur l’Ofpra. En présentant comment ils se sont constitués\, ce qu’il est possible d’y découvrir\, comment y accéder\, et en proposant plusieurs fiches d’aide à la recherche\, cet ouvrage\, qui s’adresse aussi bien aux généalogistes qu’aux chercheurs intéressés par la pratique de l’asile en France au 20e siècle\, donne les clés pour entreprendre des recherches fructueuses au sein d’un patrimoine encore méconnu. \n  \nRetrouvez toute la programmation dans l’agenda !
URL:https://musee-saint-denis.com/event/conference-presentation-de-louvrage-refugies-et-apatrides-dans-les-fonds-des-archives-diplomatiques-et-de-lofpra/
CATEGORIES:conferences colloques,special pour agenda
ATTACH;FMTTYPE=image/jpeg:https://musee-saint-denis.com/wp-content/uploads/2026/02/Refugies-et-apatrides-dans-les-fonds-des-Archives-diplomatiques-et-de-l-Ofpra.jpg
END:VEVENT
END:VCALENDAR