BEGIN:VCALENDAR
VERSION:2.0
PRODID:-//Musée d&#039;art et d&#039;histoire Paul Eluard - ECPv6.15.17.1//NONSGML v1.0//EN
CALSCALE:GREGORIAN
METHOD:PUBLISH
X-ORIGINAL-URL:https://musee-saint-denis.com
X-WR-CALDESC:Évènements pour Musée d&#039;art et d&#039;histoire Paul Eluard
REFRESH-INTERVAL;VALUE=DURATION:PT1H
X-Robots-Tag:noindex
X-PUBLISHED-TTL:PT1H
BEGIN:VTIMEZONE
TZID:Europe/Paris
BEGIN:DAYLIGHT
TZOFFSETFROM:+0100
TZOFFSETTO:+0200
TZNAME:CEST
DTSTART:20230326T010000
END:DAYLIGHT
BEGIN:STANDARD
TZOFFSETFROM:+0200
TZOFFSETTO:+0100
TZNAME:CET
DTSTART:20231029T010000
END:STANDARD
BEGIN:DAYLIGHT
TZOFFSETFROM:+0100
TZOFFSETTO:+0200
TZNAME:CEST
DTSTART:20240331T010000
END:DAYLIGHT
BEGIN:STANDARD
TZOFFSETFROM:+0200
TZOFFSETTO:+0100
TZNAME:CET
DTSTART:20241027T010000
END:STANDARD
BEGIN:DAYLIGHT
TZOFFSETFROM:+0100
TZOFFSETTO:+0200
TZNAME:CEST
DTSTART:20250330T010000
END:DAYLIGHT
BEGIN:STANDARD
TZOFFSETFROM:+0200
TZOFFSETTO:+0100
TZNAME:CET
DTSTART:20251026T010000
END:STANDARD
END:VTIMEZONE
BEGIN:VEVENT
DTSTART;TZID=Europe/Paris:20240530T173000
DTEND;TZID=Europe/Paris:20240530T190000
DTSTAMP:20260420T121044
CREATED:20240408T081357Z
LAST-MODIFIED:20240408T081626Z
UID:10703-1717090200-1717095600@musee-saint-denis.com
SUMMARY:Spectacle | Dansez avec les œuvres
DESCRIPTION:Issu de la rencontre entre une classe de 4ème du collège Fabien de Saint-Denis et le chorégraphe Clément Aubert\, cette création dansée imaginée tout au long de l’année scolaire est conçue en écho aux œuvres exposées. \nDans le cadre du dispositif « La Culture et l’art au Collège »\, en partenariat avec le Département de la Seine-Saint-Denis et l’association Citoyenneté Jeunesse.
URL:https://musee-saint-denis.com/event/spectacle-dansez-avec-les-oeuvres/
CATEGORIES:événements
END:VEVENT
END:VCALENDAR