BEGIN:VCALENDAR
VERSION:2.0
PRODID:-//Musée d&#039;art et d&#039;histoire Paul Eluard - ECPv6.15.17.1//NONSGML v1.0//EN
CALSCALE:GREGORIAN
METHOD:PUBLISH
X-ORIGINAL-URL:https://musee-saint-denis.com
X-WR-CALDESC:Évènements pour Musée d&#039;art et d&#039;histoire Paul Eluard
REFRESH-INTERVAL;VALUE=DURATION:PT1H
X-Robots-Tag:noindex
X-PUBLISHED-TTL:PT1H
BEGIN:VTIMEZONE
TZID:Europe/Paris
BEGIN:DAYLIGHT
TZOFFSETFROM:+0100
TZOFFSETTO:+0200
TZNAME:CEST
DTSTART:20250330T010000
END:DAYLIGHT
BEGIN:STANDARD
TZOFFSETFROM:+0200
TZOFFSETTO:+0100
TZNAME:CET
DTSTART:20251026T010000
END:STANDARD
BEGIN:DAYLIGHT
TZOFFSETFROM:+0100
TZOFFSETTO:+0200
TZNAME:CEST
DTSTART:20260329T010000
END:DAYLIGHT
BEGIN:STANDARD
TZOFFSETFROM:+0200
TZOFFSETTO:+0100
TZNAME:CET
DTSTART:20261025T010000
END:STANDARD
BEGIN:DAYLIGHT
TZOFFSETFROM:+0100
TZOFFSETTO:+0200
TZNAME:CEST
DTSTART:20270328T010000
END:DAYLIGHT
BEGIN:STANDARD
TZOFFSETFROM:+0200
TZOFFSETTO:+0100
TZNAME:CET
DTSTART:20271031T010000
END:STANDARD
END:VTIMEZONE
BEGIN:VEVENT
DTSTART;TZID=Europe/Paris:20260129T183000
DTEND;TZID=Europe/Paris:20260129T200000
DTSTAMP:20260420T154415
CREATED:20250903T145952Z
LAST-MODIFIED:20260107T101927Z
UID:12885-1769711400-1769716800@musee-saint-denis.com
SUMMARY:Rencontre autour de l'ouvrage Une vie en boîte. Cellules de religieuses et maquettes de couvent (18e-21e siècle)
DESCRIPTION:Dans le cadre de l’exposition Dévoiler. Une vie en miniature\, les commissaires et historiennes Isabelle Heullant-Donat et Elisabeth Lusset proposent un temps de visite et de discussion autour des « boîtes de nonnes »\, sujet de recherche qu’elles ont dirigé et qui a fait l’objet d’une parution aux Editions de la Sorbonne\, en 2025. \nLe catalogue est en vente à la boutique du musée. \nRetrouvez toute la programmation dans l’agenda !
URL:https://musee-saint-denis.com/event/rencontre-autour-de-louvrage-une-vie-en-boite-cellules-de-religieuses-et-maquettes-de-couvent-18e-21e-siecle/
CATEGORIES:conferences colloques,événements,special pour agenda
ATTACH;FMTTYPE=image/png:https://musee-saint-denis.com/wp-content/uploads/2025/09/82_29_01_resultat-removebg-preview.png
END:VEVENT
BEGIN:VEVENT
DTSTART;TZID=Europe/Paris:20260304T190000
DTEND;TZID=Europe/Paris:20260304T200000
DTSTAMP:20260420T154415
CREATED:20260219T104614Z
LAST-MODIFIED:20260219T141433Z
UID:13380-1772650800-1772654400@musee-saint-denis.com
SUMMARY:Cabaret camfranglais
DESCRIPTION:Le Cabaret camfranglais célèbre la vitalité du français tel qu’il se réinvente à travers le monde\, en prenant pour point d’ancrage le camfranglais. À travers un format scénique mêlant art oratoire\, humour\, slam et conte\, le projet donne à entendre une langue en perpétuelle transformation et fait résonner les voix de celles et ceux qui la parlent\, la transforment\, l’exportent et la réinventent. \nRetrouvez toute la programmation dans l’agenda !
URL:https://musee-saint-denis.com/event/cabaret-camfranglais/
CATEGORIES:événements
ATTACH;FMTTYPE=image/jpeg:https://musee-saint-denis.com/wp-content/uploads/2020/04/ChapelleCour-BD-24.jpg
END:VEVENT
BEGIN:VEVENT
DTSTART;VALUE=DATE:20260326
DTEND;VALUE=DATE:20260413
DTSTAMP:20260420T154415
CREATED:20260223T085217Z
LAST-MODIFIED:20260415T100154Z
UID:13390-1774483200-1776038399@musee-saint-denis.com
SUMMARY:Exposition | Félicie et nous autres
DESCRIPTION:Une exposition collective des diplômé·es du Master photographie de l’université Paris 8 Vincennes-Saint-Denis en collaboration avec le collectif Diaph8. \n  \nInterroger leur propre identité\, archiver le temps et les liens familiaux\, qu’ils soient de sang ou de cœur : voilà le projet commun aux huit photographes diplômé·es de l’université Paris 8 de Saint-Denis\, qui s’associent dans cette exposition. Chacun·e explore des êtres\, des corps et des paysages qui les lient à leurs histoires personnelles. Leurs images font apparaître\, à rebours\, des témoignages de bords de vies\, de vies à vivre\, de vies trépassées. Leurs regards dévisagent en tendresse ou à distance\, étirent ou transfèrent\, lissent ou fractionnent les sujets pour construire\, par association de photographies\, de films ou de textes\, des récits introspectifs faits de peaux et de transitions\, de mélancolies et d’événements. La figure mystérieuse de Félicie\, grand-mère de Paul Eluard\, est ici le fil rouge d’une histoire plus universelle\, qui se tisse entre nos passés et nos présents. \n  \nCommissariat : Anne Bourrassé \nAvec Olivier Al Nemnom\, Emile André\, Thomas Martin\, Joshua Mazé\, Diane Mesquita\, Petra Nadalin\, Zia Perthuisot et Zoé Schulthess Marquet. \n  \nCe projet a reçu l’appui de l’association Diaph8\, l’aide du FSDIE de l’université Paris 8 Vincennes – Saint-Denis ainsi que la bourse Culture-ActionS du CROUS Créteil. Il a également bénéficié du soutien de la ville de Saint Denis. \n  \nRetrouvez toute la programmation dans l’agenda !
URL:https://musee-saint-denis.com/event/exposition-felicie-et-nous-autres/
CATEGORIES:événements,expositions passées
ATTACH;FMTTYPE=image/jpeg:https://musee-saint-denis.com/wp-content/uploads/2026/02/00_AFFICHE_FINALE_BANNIERE_WEB-1.jpg
END:VEVENT
BEGIN:VEVENT
DTSTART;TZID=Europe/Paris:20260523T110000
DTEND;TZID=Europe/Paris:20260523T210000
DTSTAMP:20260420T154415
CREATED:20260413T150457Z
LAST-MODIFIED:20260413T150642Z
UID:13577-1779534000-1779570000@musee-saint-denis.com
SUMMARY:Nuit européenne des musées | 2026
DESCRIPTION:À l’occasion de la Nuit européenne des musées\, nous vous avons concocté une programmation aux petits oignons. Venez nombreux.ses pour profiter de visites guidées\, d’un concert\, et même d’un atelier jardinage ! \n  \n14h30 et 16h30  | Visites-ateliers en famille\, Qui est Denis ?  \nQui est le saint Denis ? D’où vient-il et qu’a-t-il fait d’exceptionnel pour donner son nom à une ville ? Certaines personnes disent qu’il a pris sa tête sous son bras et qu’il a marché avec ! Entre légende et faits\, son histoire est à dépister dans les salles archéologiques du musée. La visite est suivie de la création d’une mini bande dessinée. \nÀ partir de 6 ans.  \n  \n15h-18h | Jardinage participatif avec l’association Engrainage \nLe musée se dote d’un nouveau jardin de plantes médicinales. Les dernières plantations et les boutures sont à réaliser par toutes et tous pour la nuit des musées. \n  \n15h\, 17h et 19h  | Visites guidées\, Une histoire des collections \nPrésenter l’œuvre de Paul Eluard dans un ancien carmel du 17e siècle\, c’est un choix qui questionne souvent. Pourtant\, tout est lié à l’histoire de Saint-Denis\, qui a connu de nombreuses transformations depuis l’édification de la première basilique mérovingienne à aujourd’hui\, en passant par la révolution industrielle du 19e siècle. Les collections du musée racontent cette trajectoire\, même celles sur la Commune de Paris ! Cette visite permet de faire le lien et de découvrir les objets emblématiques exposés. \n  \nÀ partir de 16h\, et toutes les 30 minutes | Visites guidées\, Les coulisses du musée \nInédit ! Comment vit un bâtiment vieux de 400 ans ? Que se passe-t-il derrière ses portes habituellement fermées au public ? Cette visite exceptionnelle emmène les visiteurs et visiteuses dans les réserves du musée\, où sont conservées et traitées les collections. Elle donne également un aperçu du chantier de restauration des toitures\, travaux nécessaires et majeurs qui vont durer plusieurs années. \n  \n18h | Concert  \nPour une durée de 40 minutes\, le Chœur Résonance et le Jeune chœur polyphonique du conservatoire de Saint-Denis\, menés par Nathalie-Josée Audonnet\, proposent des interludes musicaux de l’époque romantique. Accompagnement au piano par Stéphane Salort. \n  \nRetrouvez toute notre programmation dans l’agenda !
URL:https://musee-saint-denis.com/event/nuit-europeenne-des-musees-2026/
CATEGORIES:événements,special pour agenda,visites balades ateliers
ATTACH;FMTTYPE=image/jpeg:https://musee-saint-denis.com/wp-content/uploads/2026/04/Affiche_NDM_carte105x15_2026_HB-RVB_page-0001.jpg
END:VEVENT
END:VCALENDAR