BEGIN:VCALENDAR
VERSION:2.0
PRODID:-//Musée d&#039;art et d&#039;histoire Paul Eluard - ECPv6.15.17.1//NONSGML v1.0//EN
CALSCALE:GREGORIAN
METHOD:PUBLISH
X-ORIGINAL-URL:https://musee-saint-denis.com
X-WR-CALDESC:Évènements pour Musée d&#039;art et d&#039;histoire Paul Eluard
REFRESH-INTERVAL;VALUE=DURATION:PT1H
X-Robots-Tag:noindex
X-PUBLISHED-TTL:PT1H
BEGIN:VTIMEZONE
TZID:Europe/Paris
BEGIN:DAYLIGHT
TZOFFSETFROM:+0100
TZOFFSETTO:+0200
TZNAME:CEST
DTSTART:20230326T010000
END:DAYLIGHT
BEGIN:STANDARD
TZOFFSETFROM:+0200
TZOFFSETTO:+0100
TZNAME:CET
DTSTART:20231029T010000
END:STANDARD
BEGIN:DAYLIGHT
TZOFFSETFROM:+0100
TZOFFSETTO:+0200
TZNAME:CEST
DTSTART:20240331T010000
END:DAYLIGHT
BEGIN:STANDARD
TZOFFSETFROM:+0200
TZOFFSETTO:+0100
TZNAME:CET
DTSTART:20241027T010000
END:STANDARD
BEGIN:DAYLIGHT
TZOFFSETFROM:+0100
TZOFFSETTO:+0200
TZNAME:CEST
DTSTART:20250330T010000
END:DAYLIGHT
BEGIN:STANDARD
TZOFFSETFROM:+0200
TZOFFSETTO:+0100
TZNAME:CET
DTSTART:20251026T010000
END:STANDARD
BEGIN:DAYLIGHT
TZOFFSETFROM:+0100
TZOFFSETTO:+0200
TZNAME:CEST
DTSTART:20260329T010000
END:DAYLIGHT
BEGIN:STANDARD
TZOFFSETFROM:+0200
TZOFFSETTO:+0100
TZNAME:CET
DTSTART:20261025T010000
END:STANDARD
END:VTIMEZONE
BEGIN:VEVENT
DTSTART;VALUE=DATE:20241211
DTEND;VALUE=DATE:20250318
DTSTAMP:20260424T231437
CREATED:20240911T141105Z
LAST-MODIFIED:20250319T110601Z
UID:11471-1733875200-1742255999@musee-saint-denis.com
SUMMARY:Exposition | IN CASE WE DIE
DESCRIPTION:Entre 2008 et 2011\, Sophie Zénon a consacré plusieurs volets à la représentation du corps mort\, réunis dans un cycle intitulé “In Case We Die”. En Occident\, la violence et la mort sont des thèmes omniprésents dans les médias mais il n’en reste pas moins que notre société se garde d’avoir un contact direct avec le cadavre que nous chassons de notre vue\, contrairement aux usages des siècles précédents. Dans un contexte de déni de la mort\, comment figurer l’infigurable ? \nLe travail de Sophie Zénon est présenté dans la salle consacrée aux collections de l’ancien Hôtel-Dieu\, lieu de la prise en charge physique et spirituelle du corps souffrant\, où la vie et la mort s’interpénètrent au quotidien. Ses photographies renvoient à différentes traditions iconographiques\, convoquant une esthétique baroque associée aux Vanités. Son univers poétique et énigmatique condense une stratégie d’apprivoisement de la finitude\, empreinte de spiritualité. Par le traitement délicat de la lumière et des couleurs\, par l’usage du flou et du bougé\, Sophie Zénon réanime les corps des défunts\, rendant perméable la frontière entre les deux mondes. \nVous trouverez ici le livret accompagnant l’exposition \nExposition du 11 décembre 2024 au 17 mars 2025
URL:https://musee-saint-denis.com/event/exposition-in-case-we-die/
CATEGORIES:expositions passées
ATTACH;FMTTYPE=image/jpeg:https://musee-saint-denis.com/wp-content/uploads/2024/12/ZENON_LaDanse_21-Copie.jpg
END:VEVENT
BEGIN:VEVENT
DTSTART;TZID=Europe/Paris:20250105T080000
DTEND;TZID=Europe/Paris:20250105T170000
DTSTAMP:20260424T231437
CREATED:20240910T085848Z
LAST-MODIFIED:20240910T095442Z
UID:11446-1736064000-1736096400@musee-saint-denis.com
SUMMARY:Atelier en famille | La gravure dans tous ses états
DESCRIPTION:Le musée possède une importante collection d’art graphique\, dont quelques œuvres sont exceptionnellement sorties des réserves pour cet atelier. Venez vous initier à différentes techniques de gravure : sur gomme\, taille en creux en passant par le monotype et la linogravure\, il y en a pour tous les goûts ! \nÀ partir de 7 ans. \n  \nRetrouvez toute la programmation dans l’agenda !
URL:https://musee-saint-denis.com/event/atelier-en-famille-la-gravure-dans-tous-ses-etats/
CATEGORIES:visites balades ateliers
ATTACH;FMTTYPE=image/jpeg:https://musee-saint-denis.com/wp-content/uploads/2014/09/AtelierCM1-HD-14.jpg
END:VEVENT
BEGIN:VEVENT
DTSTART;TZID=Europe/Paris:20250105T143000
DTEND;TZID=Europe/Paris:20250105T153000
DTSTAMP:20260424T231437
CREATED:20240909T151332Z
LAST-MODIFIED:20240909T151332Z
UID:11420-1736087400-1736091000@musee-saint-denis.com
SUMMARY:Visite guidée | À la découverte du siège et de la Commune de Paris
DESCRIPTION:Vous ne connaissez pas l’histoire du siège et de la Commune de Paris de 1870-1871 ? Cette visite est faite pour vous ! À travers l’étude des tableaux\, sculptures et documents de l’époque sont évoqués les événements principaux\, ainsi que les figures de proue de cette insurrection\, telle que Louise Michel. \n  \nRetrouvez toute la programmation dans l’agenda !
URL:https://musee-saint-denis.com/event/visite-guidee-a-la-decouverte-du-siege-et-de-la-commune-de-paris-4/
CATEGORIES:visites balades ateliers
ATTACH;FMTTYPE=image/jpeg:https://musee-saint-denis.com/wp-content/uploads/2021/02/82_32_01_0_1_4-copie.jpg
END:VEVENT
BEGIN:VEVENT
DTSTART;TZID=Europe/Paris:20250122T100000
DTEND;TZID=Europe/Paris:20250122T113000
DTSTAMP:20260424T231437
CREATED:20240911T093219Z
LAST-MODIFIED:20240911T093219Z
UID:11453-1737540000-1737545400@musee-saint-denis.com
SUMMARY:Atelier en famille | Qui est Denis ?
DESCRIPTION:Qui est le saint Denis ? D’où vient-il et qu’a-t-il fait d’exceptionnel pour donner son nom à une ville ? Certaines personnes disent qu’il a pris sa tête sous son bras et qu’il a marché avec ! Entre légende et faits\, son histoire est à dépister dans les salles archéologiques du musée. La visite est suivie de la création d’une mini bande dessinée. \nÀ partir de 6 ans. \n  \nRetrouvez toute la programmation dans l’agenda !
URL:https://musee-saint-denis.com/event/atelier-en-famille-qui-est-denis/
CATEGORIES:visites balades ateliers
ATTACH;FMTTYPE=image/jpeg:https://musee-saint-denis.com/wp-content/uploads/2014/09/AtelierCM1-HD-14.jpg
END:VEVENT
END:VCALENDAR