BEGIN:VCALENDAR
VERSION:2.0
PRODID:-//Musée d&#039;art et d&#039;histoire Paul Eluard - ECPv6.15.17.1//NONSGML v1.0//EN
CALSCALE:GREGORIAN
METHOD:PUBLISH
X-WR-CALNAME:Musée d&#039;art et d&#039;histoire Paul Eluard
X-ORIGINAL-URL:https://musee-saint-denis.com
X-WR-CALDESC:Évènements pour Musée d&#039;art et d&#039;histoire Paul Eluard
REFRESH-INTERVAL;VALUE=DURATION:PT1H
X-Robots-Tag:noindex
X-PUBLISHED-TTL:PT1H
BEGIN:VTIMEZONE
TZID:Europe/Paris
BEGIN:DAYLIGHT
TZOFFSETFROM:+0100
TZOFFSETTO:+0200
TZNAME:CEST
DTSTART:20230326T010000
END:DAYLIGHT
BEGIN:STANDARD
TZOFFSETFROM:+0200
TZOFFSETTO:+0100
TZNAME:CET
DTSTART:20231029T010000
END:STANDARD
BEGIN:DAYLIGHT
TZOFFSETFROM:+0100
TZOFFSETTO:+0200
TZNAME:CEST
DTSTART:20240331T010000
END:DAYLIGHT
BEGIN:STANDARD
TZOFFSETFROM:+0200
TZOFFSETTO:+0100
TZNAME:CET
DTSTART:20241027T010000
END:STANDARD
BEGIN:DAYLIGHT
TZOFFSETFROM:+0100
TZOFFSETTO:+0200
TZNAME:CEST
DTSTART:20250330T010000
END:DAYLIGHT
BEGIN:STANDARD
TZOFFSETFROM:+0200
TZOFFSETTO:+0100
TZNAME:CET
DTSTART:20251026T010000
END:STANDARD
BEGIN:DAYLIGHT
TZOFFSETFROM:+0100
TZOFFSETTO:+0200
TZNAME:CEST
DTSTART:20260329T010000
END:DAYLIGHT
BEGIN:STANDARD
TZOFFSETFROM:+0200
TZOFFSETTO:+0100
TZNAME:CET
DTSTART:20261025T010000
END:STANDARD
END:VTIMEZONE
BEGIN:VEVENT
DTSTART;VALUE=DATE:20241211
DTEND;VALUE=DATE:20250318
DTSTAMP:20260424T193622
CREATED:20240911T141105Z
LAST-MODIFIED:20250319T110601Z
UID:11471-1733875200-1742255999@musee-saint-denis.com
SUMMARY:Exposition | IN CASE WE DIE
DESCRIPTION:Entre 2008 et 2011\, Sophie Zénon a consacré plusieurs volets à la représentation du corps mort\, réunis dans un cycle intitulé “In Case We Die”. En Occident\, la violence et la mort sont des thèmes omniprésents dans les médias mais il n’en reste pas moins que notre société se garde d’avoir un contact direct avec le cadavre que nous chassons de notre vue\, contrairement aux usages des siècles précédents. Dans un contexte de déni de la mort\, comment figurer l’infigurable ? \nLe travail de Sophie Zénon est présenté dans la salle consacrée aux collections de l’ancien Hôtel-Dieu\, lieu de la prise en charge physique et spirituelle du corps souffrant\, où la vie et la mort s’interpénètrent au quotidien. Ses photographies renvoient à différentes traditions iconographiques\, convoquant une esthétique baroque associée aux Vanités. Son univers poétique et énigmatique condense une stratégie d’apprivoisement de la finitude\, empreinte de spiritualité. Par le traitement délicat de la lumière et des couleurs\, par l’usage du flou et du bougé\, Sophie Zénon réanime les corps des défunts\, rendant perméable la frontière entre les deux mondes. \nVous trouverez ici le livret accompagnant l’exposition \nExposition du 11 décembre 2024 au 17 mars 2025
URL:https://musee-saint-denis.com/event/exposition-in-case-we-die/
CATEGORIES:expositions passées
ATTACH;FMTTYPE=image/jpeg:https://musee-saint-denis.com/wp-content/uploads/2024/12/ZENON_LaDanse_21-Copie.jpg
END:VEVENT
BEGIN:VEVENT
DTSTART;TZID=Europe/Paris:20250302T143000
DTEND;TZID=Europe/Paris:20250302T153000
DTSTAMP:20260424T193622
CREATED:20240909T151608Z
LAST-MODIFIED:20240910T085910Z
UID:11421-1740925800-1740929400@musee-saint-denis.com
SUMMARY:Visite guidée | À la découverte du siège et de la Commune de Paris
DESCRIPTION:Vous ne connaissez pas l’histoire du siège et de la Commune de Paris de 1870-1871 ? Cette visite est faite pour vous ! À travers l’étude des tableaux\, sculptures et documents de l’époque sont évoqués les événements principaux\, ainsi que les figures de proue de cette insurrection\, telle que Louise Michel. \n  \nRetrouvez toute la programmation dans l’agenda !
URL:https://musee-saint-denis.com/event/visite-guidee-a-la-decouverte-du-siege-et-de-la-commune-de-paris-5/
CATEGORIES:visites balades ateliers
ATTACH;FMTTYPE=image/jpeg:https://musee-saint-denis.com/wp-content/uploads/2021/02/82_32_01_0_1_4-copie.jpg
END:VEVENT
BEGIN:VEVENT
DTSTART;TZID=Europe/Paris:20250308T150000
DTEND;TZID=Europe/Paris:20250308T160000
DTSTAMP:20260424T193622
CREATED:20240911T101219Z
LAST-MODIFIED:20241008T093049Z
UID:11467-1741446000-1741449600@musee-saint-denis.com
SUMMARY:Visite guidée | Les deux Louise
DESCRIPTION:L’histoire du musée est marquée par les vies de deux Louise : Louise de France\, fille du roi Louis XV\, devenue religieuse au carmel de Saint-Denis en 1770 et Louise Michel\, anarchiste et figure populaire de la Commune. Toutes les deux ont une histoire extraordinaire\, certes très différente\, et partageaient une volonté profonde : celle de s’autodéterminer en tant que femme\, de mener leur vie selon leurs convictions et de définir leur propre destin. \nCette visite est proposée dans le cadre de la Journée internationale de lutte pour les droits des femmes.
URL:https://musee-saint-denis.com/event/visite-guidee-les-deux-louise-2/
CATEGORIES:visites balades ateliers
ATTACH;FMTTYPE=image/jpeg:https://musee-saint-denis.com/wp-content/uploads/2014/06/clean1.jpg
END:VEVENT
BEGIN:VEVENT
DTSTART;TZID=Europe/Paris:20250308T163000
DTEND;TZID=Europe/Paris:20250308T173000
DTSTAMP:20260424T193622
CREATED:20250224T101303Z
LAST-MODIFIED:20250224T103104Z
UID:12001-1741451400-1741455000@musee-saint-denis.com
SUMMARY:Spectacle | SICILIA
DESCRIPTION:Dans le cadre de la Journée internationale de lutte pour les droits des femmes\, la comédienne et metteuse en scène Clyde Chabot est conviée à venir jouer au musée son grand banquet festif SICILIA. Ce spectacle questionne la notion de migration et de partage des histoires de famille\, autour des ancêtre venus de Sicile de Clyde. C’est une histoire universelle de femmes et de départ\, de souvenirs et d’identité. \nPuis (à confirmer) s’enchaineront à Saint-Denis et à La Courneuve une série d’ateliers de création « De l’Amitié hier et aujourd’hui » conçus avec l’association l’Amicale du Nid qui accompagne des femmes en situation ou en danger de prostitution. Le musée collabore déjà avec cette structure\, en proposant aux femmes accompagnées des séances de yoga et de sophrologie devant les œuvres\, ainsi qu’un parcours sur le soin par les plantes. Ancien couvent de carmélites\, le musée est un lieu dont le calme est propice au bien-être et au repos. \nSpectacle SICILIA\, par la Communauté Inavouable (durée : 45 minutes) \nAvant la représentation\, vous avez la possibilité de suivre la visite guidée Les deux Louise.
URL:https://musee-saint-denis.com/event/spectacle-sicilia/
CATEGORIES:événements,special pour agenda
ATTACH;FMTTYPE=image/jpeg:https://musee-saint-denis.com/wp-content/uploads/2025/02/Copyright-Le-Generateur.jpg
END:VEVENT
BEGIN:VEVENT
DTSTART;VALUE=DATE:20250320
DTEND;VALUE=DATE:20250517
DTSTAMP:20260424T193622
CREATED:20250320T092753Z
LAST-MODIFIED:20250320T094028Z
UID:12266-1742428800-1747439999@musee-saint-denis.com
SUMMARY:Cartes blanches | Le Carmel t'appelle
DESCRIPTION:Nouveauté de cette année ! Lors de trois soirées\, le musée donne carte blanche sur la programmation à trois associations culturelles de Seine-Saint-Denis. Les candidatures sont possibles jusqu’au 16 mai. \nRetrouvez les propositions lors des nocturnes les jeudis 26 juin\, 31 juillet et 28 août. \n  \nRetrouvez toute la programmation dans l’agenda !
URL:https://musee-saint-denis.com/event/cartes-blanches-le-carmel-tappelle/
CATEGORIES:événements,special pour agenda
ATTACH;FMTTYPE=image/jpeg:https://musee-saint-denis.com/wp-content/uploads/2014/06/Cloitre-HD-631.jpg
END:VEVENT
BEGIN:VEVENT
DTSTART;TZID=Europe/Paris:20250320T183000
DTEND;TZID=Europe/Paris:20250320T193000
DTSTAMP:20260424T193622
CREATED:20250225T125841Z
LAST-MODIFIED:20250225T130206Z
UID:12007-1742495400-1742499000@musee-saint-denis.com
SUMMARY:Regard d'artistes sur les collections | Sarah Tritz
DESCRIPTION:Tous les trimestres\, un artiste s’empare d’un objet issu des collections du musée d’art et d’histoire Paul-Eluard de Saint-Denis pour le mettre en perspective dans son propre travail. \nFormée aux beaux-arts de Lyon\, enseignante à l’ENSAD\, Sarah Tritz développe depuis une vingtaine d’années une pratique plastique protéiforme mêlant plusieurs types de médias et de matériaux. Sculptures plates en bois représentant des bustes\, céramiques-dinosaures\, tablettes météorologiques très simplement exécutées… Elle crée une variété d’objets qui sont la plupart du temps des « copies non conformes » de jouets en plastiques très colorés. La base de son activité reste le dessin : outil principal de sa réflexion plastique et conceptuelle\, il opère comme une écriture archaïque et minimale. Son travail a été montré dans de nombreuses expositions en France comme à l’étranger : à la Tôlerie (Clermont-Ferrand)\, au Crédac (Ivry-sur-Seine)\, à la Galerie (Noisy-le-Sec)\, à la Casa Jorn (Albisola)\, au MAMCO (Genève)\, au MRAC (Sérignan)\, au Palais de Tokyo (Paris)…
URL:https://musee-saint-denis.com/event/regard-dartistes-sur-les-collections-sarah-tritz/
CATEGORIES:conferences colloques,special pour agenda
ATTACH;FMTTYPE=image/jpeg:https://musee-saint-denis.com/wp-content/uploads/2025/02/couverture_Tritz_Matinee_2_2023-scaled.jpg
END:VEVENT
BEGIN:VEVENT
DTSTART;VALUE=DATE:20250321
DTEND;VALUE=DATE:20250922
DTSTAMP:20260424T193622
CREATED:20250305T094759Z
LAST-MODIFIED:20250321T091357Z
UID:12016-1742515200-1758499199@musee-saint-denis.com
SUMMARY:VENUS
DESCRIPTION:Dans la lignée de ses projets liés à la place des femmes dans la société à travers la symbolique de la matière terre\, Terracotta Daughters (2011-2031)\, Mater Earth (2020-2023) et Statues Also Breathe (2022)\, Prune Nourry présente son projet Vénus. Ce projet reprend la commande Les Vénus dionysiennes pour le Grand Paris Express dans la gare Saint-Denis – Pleyel\, imaginée en tandem avec l’architecte Kengo Kuma\, et qui sera installée en 2026. \nPour cette œuvre monumentale et pérenne\, l’artiste s’inspire de l’histoire archéologique et de la diversité culturelle de Saint-Denis (plus de 130 nationalités s’y côtoient). Suite à ses recherches et rencontres\, notamment avec Catherine Schwab\, conservatrice au musée d’Archéologie nationale de Saint-Germain-en-Laye\, l’artiste réalise huit interprétations de Vénus du Paléolithique\, présentées dans l’exposition. Ces huit premières de série seront combinées avec quatorze couleurs de terre différentes pour donner 108 sculptures uniques\, positionnées dans l’atrium de la gare comme un musée vertical. Au cœur de chacune sera installée de la terre collectée à travers le chantier partagé La Terre qui m’est Chair\, projet collectif imaginé avec des associations de femmes de Saint-Denis. \nAfin de s’ancrer dans le territoire\, Prune Nourry réalise également un projet plus intime inspiré par l’une de ces associations\, la Maison des femmes de Saint-Denis. Elle rencontre sa fondatrice\, Ghada Hatem\, gynécologue-obstétricienne\, qui l’invite à leurs ateliers\, où l’artiste propose à huit femmes de poser sur le modèle des sculptures gravettiennes. Elles partagent à cette occasion des fragments de leur histoire\, qui nourrissent le travail de création de l’artiste. \nPour resituer le thème des Vénus dans l’histoire de la sculpture\, l’artiste expose également une installation composée de moules issus des collections de l’Atelier de moulage du Grand Palais-Rmn\, situé à Saint-Denis. Telle une frise chronologique sur la représentation des femmes à travers les époques\, allant de 30 000 ans avant notre ère au XIXᵉ siècle\, ces moules établissent un lien entre les femmes de la préhistoire et celles d’aujourd’hui. \nLe livret de l’exposition sera bientôt téléchargeable. \nDéposez un peu de votre terre qui vous est chair au musée jusqu’au 21 septembre 2025 : laterrequimestchair.com  \n  \nBiographie de Prune Nourry \nNée en 1985 à Paris\, Prune Nourry vit et travaille entre New York et Paris. Diplômée en 2006 de l’École Boulle en sculpture sur bois\, elle est représentée par la galerie Templon (Paris\, Bruxelles\, New York). \nL’artiste soulève des questions éthiques liées à la notion d’équilibre au sens large : le corps et son processus de guérison\, le déséquilibre démographique dû à la sélection du genre et les dérives scientifiques\, les écosystèmes et l’interdépendance entre les espèces vivantes. Les œuvres qu’elle produit associent sculpture\, installation\, performance\, et font souvent l’objet de rituels\, qu’elle documente par la photographie et la vidéo. Elles renvoient à l’inconscient collectif à travers les mythes fondateurs\, mettant en lumière ce qui nous unit plutôt que ce qui nous divise. \nPrune Nourry engage son travail dans une contextualisation géographique et temporelle grâce à des investigations s’appuyant sur des disciplines extérieures au domaine de l’art\, comme l’anthropologie ou l’archéologie. En effet\, ses projets\, internationaux\, s’inspirent de rencontres avec des spécialistes\, généticiens\, sociologues\, anthropologues ou archéologues\, qui\, comme l’artiste\, sont souvent «guidés» par la serendipity (sérendipité) ou l’art de faire une découverte par hasard lors de recherches sur un autre sujet. La terre\, sa matière de prédilection\, est au cœur de sa pratique\, son point d’ancrage. Elle collabore aussi avec de nombreux artisans qui lui permettent d’explorer d’autres matériaux et de nouvelles techniques. L’année 2016 constitue un tournant dans son parcours personnel et artistique\, lorsqu’elle apprend\, à l’âge de 31 ans\, qu’elle est atteinte d’un cancer du sein. \nEn 2024\, Prune Nourry fonde avec Claude Grunitzky la Catharsis Arts Foundation dans le but d’amplifier les voix de femmes issues de communautés sous-représentées\, en leur permettant de partager leurs histoires à travers des projets de sculptures collaboratives. \n  \n\n\nArchipel&Co\nArchipel&co est une agence d’innovation et d’entrepreneurial social. Elle accompagne depuis 15 ans des acteurs associatifs\, publics et privés dans la conception et la mise en œuvre de projets territoriaux au service du lien social\, de l’emploi\, et du développement local. Archipel&co intervient sur plusieurs projets en Seine-Saint-Denis autour des enjeux de culture\, d’insertion\, d’entrepreneuriat et de mobilité. \nLa Société des grands projets et du Grand Paris Express\nLa Société des grands projets réalise de nouvelles solutions de mobilité du quotidien\, des grands projets de transports décarbonés au service des territoires et des habitants. Elle pilote depuis 2010\, la réalisation du Grand Paris Express\, dont les quatre nouvelles lignes de métro (15\, 16\, 17 et 18) ainsi que les prolongements de la ligne 14\, qui vont révolutionner les déplacements de banlieue à banlieue.  À l’échelle nationale\, au plus près des territoires\, elle accompagne les collectivités pour mener à bien les projets de services express régionaux métropolitains.\nLe Grand Paris Express constitue aujourd’hui le plus grand chantier du siècle. Pour renforcer son rôle urbain\, social et environnemental\, il porte la culture et la création en son cœur. L’art du Grand Paris englobe une collection d’œuvres d’art\, d’illustrations au sein des gares du Grand Paris Express et une programmation d’actions culturelles avec les grands parisiens autour du tracé du nouveau métro.\nL’Art du Grand Paris connecte ainsi les territoires\, les habitants\, les artistes et les acteurs locaux dans le but de développer ensemble des imaginaires communs autour de l’arrivée du métro.\nLa Galerie Templon\nLa galerie TEMPLON a été fondée en 1966 par Daniel Templon alors qu’il n’a que 21 ans. Il ouvre sa première galerie dans la cave d’un antiquaire rue Bonaparte et déménage en 1972 dans le marais\, 5 ans avant l’ouverture du Centre Pompidou. La même année\, il lance le magazine d’art contemporain Art Press avec la rédactrice en chef actuelle\, Catherine Millet. Il compte parmi les premiers galeristes français à présenter les plus grandes figures de l’art américain\, dont Donald Judd\, Ellsworth Kelly\, Andy Warhol\, Robert Rauschenberg\, Sol LeWitt\, Richard Serra\, Jim Dine. Puis fait connaître de grands noms français dont Martin Barré\, Christian Boltanski\, Gérard Garouste\, Philippe Cognée\, Jean-Michel Alberola\, tout en proposant une vitrine aux artistes plus émergeants de la scène internationale tels que Omar Ba\, Prune Nourry\, Jeanne Vicerial\, Alioune Diagne ou encore Robin Kid.\nLa galerie possède aujourd’hui quatre espaces : deux à Paris\, un à Bruxelles et un à New York et se fait la vitrine d’une trentaine d’artistes internationaux qu’elle représente\, et qui font dialoguer différentes générations.\nL’atelier des moulages – GrandPalaisRmn\nDepuis deux siècles\, l’Atelier de moulage GrandPalaisRmn fait revivre les plus grands chefs-d’œuvre de la sculpture en fabriquant des reproductions de haute qualité grâce à des procédés uniques qui mêlent l’exigence de la tradition et l’excellence de la modernité. La collection de moules conservée par l’Atelier retrace toute l’histoire de la sculpture\, illustrant l’art de la Préhistoire\, les Antiquités orientales\, égyptiennes\, gréco-romaines\, étrusques\, gallo-romaines\, ainsi que les chefs-d’œuvre des écoles française\, italienne et d’Europe du nord du Moyen Âge au XXe siècle.\nLa Maison des femmes de Saint-Denis\nLa Maison des femmes de Saint-Denis est un lieu de prise en charge unique des femmes en difficulté\, victimes de violences. Rattachée à l’hôpital Delafontaine\, elle propose une prise en charge pluriprofessionnelle et pluridisciplinaire avec un guichet unique. Elle a été créée en juillet 2016 par la Dr Ghada Hatem.\nL’objectif est d’apporter une aide concrète et complète aux femmes en difficulté en Seine-Saint-Denis.\nElle intervient aussi dans les domaines de la prévention\, de l’éducation et de la santé publique.\n 
URL:https://musee-saint-denis.com/event/venus/
CATEGORIES:exposition,special pour agenda
ATTACH;FMTTYPE=image/jpeg:https://musee-saint-denis.com/wp-content/uploads/2025/03/Montage-8-Venus.jpg
END:VEVENT
END:VCALENDAR