BEGIN:VCALENDAR
VERSION:2.0
PRODID:-//Musée d&#039;art et d&#039;histoire Paul Eluard - ECPv6.15.17.1//NONSGML v1.0//EN
CALSCALE:GREGORIAN
METHOD:PUBLISH
X-WR-CALNAME:Musée d&#039;art et d&#039;histoire Paul Eluard
X-ORIGINAL-URL:https://musee-saint-denis.com
X-WR-CALDESC:Évènements pour Musée d&#039;art et d&#039;histoire Paul Eluard
REFRESH-INTERVAL;VALUE=DURATION:PT1H
X-Robots-Tag:noindex
X-PUBLISHED-TTL:PT1H
BEGIN:VTIMEZONE
TZID:Europe/Paris
BEGIN:DAYLIGHT
TZOFFSETFROM:+0100
TZOFFSETTO:+0200
TZNAME:CEST
DTSTART:20240331T010000
END:DAYLIGHT
BEGIN:STANDARD
TZOFFSETFROM:+0200
TZOFFSETTO:+0100
TZNAME:CET
DTSTART:20241027T010000
END:STANDARD
BEGIN:DAYLIGHT
TZOFFSETFROM:+0100
TZOFFSETTO:+0200
TZNAME:CEST
DTSTART:20250330T010000
END:DAYLIGHT
BEGIN:STANDARD
TZOFFSETFROM:+0200
TZOFFSETTO:+0100
TZNAME:CET
DTSTART:20251026T010000
END:STANDARD
BEGIN:DAYLIGHT
TZOFFSETFROM:+0100
TZOFFSETTO:+0200
TZNAME:CEST
DTSTART:20260329T010000
END:DAYLIGHT
BEGIN:STANDARD
TZOFFSETFROM:+0200
TZOFFSETTO:+0100
TZNAME:CET
DTSTART:20261025T010000
END:STANDARD
BEGIN:DAYLIGHT
TZOFFSETFROM:+0100
TZOFFSETTO:+0200
TZNAME:CEST
DTSTART:20270328T010000
END:DAYLIGHT
BEGIN:STANDARD
TZOFFSETFROM:+0200
TZOFFSETTO:+0100
TZNAME:CET
DTSTART:20271031T010000
END:STANDARD
END:VTIMEZONE
BEGIN:VEVENT
DTSTART;VALUE=DATE:20250321
DTEND;VALUE=DATE:20250922
DTSTAMP:20260424T085441
CREATED:20250305T094759Z
LAST-MODIFIED:20250321T091357Z
UID:12016-1742515200-1758499199@musee-saint-denis.com
SUMMARY:VENUS
DESCRIPTION:Dans la lignée de ses projets liés à la place des femmes dans la société à travers la symbolique de la matière terre\, Terracotta Daughters (2011-2031)\, Mater Earth (2020-2023) et Statues Also Breathe (2022)\, Prune Nourry présente son projet Vénus. Ce projet reprend la commande Les Vénus dionysiennes pour le Grand Paris Express dans la gare Saint-Denis – Pleyel\, imaginée en tandem avec l’architecte Kengo Kuma\, et qui sera installée en 2026. \nPour cette œuvre monumentale et pérenne\, l’artiste s’inspire de l’histoire archéologique et de la diversité culturelle de Saint-Denis (plus de 130 nationalités s’y côtoient). Suite à ses recherches et rencontres\, notamment avec Catherine Schwab\, conservatrice au musée d’Archéologie nationale de Saint-Germain-en-Laye\, l’artiste réalise huit interprétations de Vénus du Paléolithique\, présentées dans l’exposition. Ces huit premières de série seront combinées avec quatorze couleurs de terre différentes pour donner 108 sculptures uniques\, positionnées dans l’atrium de la gare comme un musée vertical. Au cœur de chacune sera installée de la terre collectée à travers le chantier partagé La Terre qui m’est Chair\, projet collectif imaginé avec des associations de femmes de Saint-Denis. \nAfin de s’ancrer dans le territoire\, Prune Nourry réalise également un projet plus intime inspiré par l’une de ces associations\, la Maison des femmes de Saint-Denis. Elle rencontre sa fondatrice\, Ghada Hatem\, gynécologue-obstétricienne\, qui l’invite à leurs ateliers\, où l’artiste propose à huit femmes de poser sur le modèle des sculptures gravettiennes. Elles partagent à cette occasion des fragments de leur histoire\, qui nourrissent le travail de création de l’artiste. \nPour resituer le thème des Vénus dans l’histoire de la sculpture\, l’artiste expose également une installation composée de moules issus des collections de l’Atelier de moulage du Grand Palais-Rmn\, situé à Saint-Denis. Telle une frise chronologique sur la représentation des femmes à travers les époques\, allant de 30 000 ans avant notre ère au XIXᵉ siècle\, ces moules établissent un lien entre les femmes de la préhistoire et celles d’aujourd’hui. \nLe livret de l’exposition sera bientôt téléchargeable. \nDéposez un peu de votre terre qui vous est chair au musée jusqu’au 21 septembre 2025 : laterrequimestchair.com  \n  \nBiographie de Prune Nourry \nNée en 1985 à Paris\, Prune Nourry vit et travaille entre New York et Paris. Diplômée en 2006 de l’École Boulle en sculpture sur bois\, elle est représentée par la galerie Templon (Paris\, Bruxelles\, New York). \nL’artiste soulève des questions éthiques liées à la notion d’équilibre au sens large : le corps et son processus de guérison\, le déséquilibre démographique dû à la sélection du genre et les dérives scientifiques\, les écosystèmes et l’interdépendance entre les espèces vivantes. Les œuvres qu’elle produit associent sculpture\, installation\, performance\, et font souvent l’objet de rituels\, qu’elle documente par la photographie et la vidéo. Elles renvoient à l’inconscient collectif à travers les mythes fondateurs\, mettant en lumière ce qui nous unit plutôt que ce qui nous divise. \nPrune Nourry engage son travail dans une contextualisation géographique et temporelle grâce à des investigations s’appuyant sur des disciplines extérieures au domaine de l’art\, comme l’anthropologie ou l’archéologie. En effet\, ses projets\, internationaux\, s’inspirent de rencontres avec des spécialistes\, généticiens\, sociologues\, anthropologues ou archéologues\, qui\, comme l’artiste\, sont souvent «guidés» par la serendipity (sérendipité) ou l’art de faire une découverte par hasard lors de recherches sur un autre sujet. La terre\, sa matière de prédilection\, est au cœur de sa pratique\, son point d’ancrage. Elle collabore aussi avec de nombreux artisans qui lui permettent d’explorer d’autres matériaux et de nouvelles techniques. L’année 2016 constitue un tournant dans son parcours personnel et artistique\, lorsqu’elle apprend\, à l’âge de 31 ans\, qu’elle est atteinte d’un cancer du sein. \nEn 2024\, Prune Nourry fonde avec Claude Grunitzky la Catharsis Arts Foundation dans le but d’amplifier les voix de femmes issues de communautés sous-représentées\, en leur permettant de partager leurs histoires à travers des projets de sculptures collaboratives. \n  \n\n\nArchipel&Co\nArchipel&co est une agence d’innovation et d’entrepreneurial social. Elle accompagne depuis 15 ans des acteurs associatifs\, publics et privés dans la conception et la mise en œuvre de projets territoriaux au service du lien social\, de l’emploi\, et du développement local. Archipel&co intervient sur plusieurs projets en Seine-Saint-Denis autour des enjeux de culture\, d’insertion\, d’entrepreneuriat et de mobilité. \nLa Société des grands projets et du Grand Paris Express\nLa Société des grands projets réalise de nouvelles solutions de mobilité du quotidien\, des grands projets de transports décarbonés au service des territoires et des habitants. Elle pilote depuis 2010\, la réalisation du Grand Paris Express\, dont les quatre nouvelles lignes de métro (15\, 16\, 17 et 18) ainsi que les prolongements de la ligne 14\, qui vont révolutionner les déplacements de banlieue à banlieue.  À l’échelle nationale\, au plus près des territoires\, elle accompagne les collectivités pour mener à bien les projets de services express régionaux métropolitains.\nLe Grand Paris Express constitue aujourd’hui le plus grand chantier du siècle. Pour renforcer son rôle urbain\, social et environnemental\, il porte la culture et la création en son cœur. L’art du Grand Paris englobe une collection d’œuvres d’art\, d’illustrations au sein des gares du Grand Paris Express et une programmation d’actions culturelles avec les grands parisiens autour du tracé du nouveau métro.\nL’Art du Grand Paris connecte ainsi les territoires\, les habitants\, les artistes et les acteurs locaux dans le but de développer ensemble des imaginaires communs autour de l’arrivée du métro.\nLa Galerie Templon\nLa galerie TEMPLON a été fondée en 1966 par Daniel Templon alors qu’il n’a que 21 ans. Il ouvre sa première galerie dans la cave d’un antiquaire rue Bonaparte et déménage en 1972 dans le marais\, 5 ans avant l’ouverture du Centre Pompidou. La même année\, il lance le magazine d’art contemporain Art Press avec la rédactrice en chef actuelle\, Catherine Millet. Il compte parmi les premiers galeristes français à présenter les plus grandes figures de l’art américain\, dont Donald Judd\, Ellsworth Kelly\, Andy Warhol\, Robert Rauschenberg\, Sol LeWitt\, Richard Serra\, Jim Dine. Puis fait connaître de grands noms français dont Martin Barré\, Christian Boltanski\, Gérard Garouste\, Philippe Cognée\, Jean-Michel Alberola\, tout en proposant une vitrine aux artistes plus émergeants de la scène internationale tels que Omar Ba\, Prune Nourry\, Jeanne Vicerial\, Alioune Diagne ou encore Robin Kid.\nLa galerie possède aujourd’hui quatre espaces : deux à Paris\, un à Bruxelles et un à New York et se fait la vitrine d’une trentaine d’artistes internationaux qu’elle représente\, et qui font dialoguer différentes générations.\nL’atelier des moulages – GrandPalaisRmn\nDepuis deux siècles\, l’Atelier de moulage GrandPalaisRmn fait revivre les plus grands chefs-d’œuvre de la sculpture en fabriquant des reproductions de haute qualité grâce à des procédés uniques qui mêlent l’exigence de la tradition et l’excellence de la modernité. La collection de moules conservée par l’Atelier retrace toute l’histoire de la sculpture\, illustrant l’art de la Préhistoire\, les Antiquités orientales\, égyptiennes\, gréco-romaines\, étrusques\, gallo-romaines\, ainsi que les chefs-d’œuvre des écoles française\, italienne et d’Europe du nord du Moyen Âge au XXe siècle.\nLa Maison des femmes de Saint-Denis\nLa Maison des femmes de Saint-Denis est un lieu de prise en charge unique des femmes en difficulté\, victimes de violences. Rattachée à l’hôpital Delafontaine\, elle propose une prise en charge pluriprofessionnelle et pluridisciplinaire avec un guichet unique. Elle a été créée en juillet 2016 par la Dr Ghada Hatem.\nL’objectif est d’apporter une aide concrète et complète aux femmes en difficulté en Seine-Saint-Denis.\nElle intervient aussi dans les domaines de la prévention\, de l’éducation et de la santé publique.\n 
URL:https://musee-saint-denis.com/event/venus/
CATEGORIES:exposition,special pour agenda
ATTACH;FMTTYPE=image/jpeg:https://musee-saint-denis.com/wp-content/uploads/2025/03/Montage-8-Venus.jpg
END:VEVENT
BEGIN:VEVENT
DTSTART;TZID=Europe/Paris:20250907T143000
DTEND;TZID=Europe/Paris:20250907T153000
DTSTAMP:20260424T085441
CREATED:20250901T082443Z
LAST-MODIFIED:20250901T082443Z
UID:12810-1757255400-1757259000@musee-saint-denis.com
SUMMARY:Visite guidée | Les incontournables du musée
DESCRIPTION:Venez (re)découvrir les œuvres du musée\, niché dans un couvent du 17e siècle à l’architecture préservée ! De l’histoire médiévale de Saint-Denis au poète Paul Eluard\, en passant par le siège et la Commune de Paris de 1870-1871\, cette visite dévoile des collections riches et insoupçonnées. \n  \nRetrouvez toute la programmation dans l’agenda !
URL:https://musee-saint-denis.com/event/visite-guidee-les-incontournables-du-musee-8/
CATEGORIES:special pour agenda,visites balades ateliers
ATTACH;FMTTYPE=image/jpeg:https://musee-saint-denis.com/wp-content/uploads/2024/02/Apo_A-Saad-Ellaoui-scaled.jpg
END:VEVENT
BEGIN:VEVENT
DTSTART;TZID=Europe/Paris:20250907T160000
DTEND;TZID=Europe/Paris:20250907T173000
DTSTAMP:20260424T085441
CREATED:20250901T083809Z
LAST-MODIFIED:20250901T083809Z
UID:12817-1757260800-1757266200@musee-saint-denis.com
SUMMARY:Atelier en famille | La gravure dans tous ses états
DESCRIPTION:Le musée possède une importante collection d’art graphique\, dont quelques œuvres sont exceptionnellement sorties des réserves pour cet atelier. Venez vous initier à différentes techniques de gravure : sur gomme\, taille en creux en passant par le monotype et la linogravure\, il y en a pour tous les goûts ! \nÀ partir de 7 ans. \nRetrouvez toute la programmation dans l’agenda !
URL:https://musee-saint-denis.com/event/atelier-en-famille-la-gravure-dans-tous-ses-etats-3/
CATEGORIES:special pour agenda,visites balades ateliers
ATTACH;FMTTYPE=image/jpeg:https://musee-saint-denis.com/wp-content/uploads/2014/09/AtelierCM1-HD-14.jpg
END:VEVENT
BEGIN:VEVENT
DTSTART;VALUE=DATE:20250916
DTEND;VALUE=DATE:20260223
DTSTAMP:20260424T085441
CREATED:20250710T085232Z
LAST-MODIFIED:20250919T132740Z
UID:12620-1757980800-1771804799@musee-saint-denis.com
SUMMARY:Le carmel de Saint-Denis : du couvent au musée
DESCRIPTION:Il y a 400 ans\, le 27 septembre 1625\, huit sœurs de l’ordre du Carmel réformé s’établissent à Saint-Denis. La ville abritera de nombreux couvents\, dont il ne reste que peu de traces aujourd’hui. Le carmel constitue un témoignage unique de l’architecture conventuelle du territoire. Il a vécu plusieurs vies : de demeure des religieuses\, il devient caserne militaire après la Révolution française\, tandis que la chapelle est brièvement transformée en temple de la Raison puis en église paroissiale. À la fin du 19e siècle\, les religieuses rachètent le bâtiment\, à l’exception de la chapelle\, désormais tribunal. Il est peu à peu délaissé\, avant d’être acquis par la municipalité. Dès 1981\, l’ancien couvent en partie restauré devient le musée d’art et d’histoire\, désacralisé et ouvert à tous et toutes. \nL’architecture inspire toujours quiétude et spiritualité\, en résonnance avec sa destinée première\, et en contraste avec l’environnement citadin effervescent. Les sentences rappellent qu’une communauté de femmes\, cloîtrées volontairement\, ont vécu dans ce lieu. La collection d’objets et d’œuvres\, disposés dans les anciennes cellules\, présentent cette histoire. Que savons-nous de ces carmélites ? De leur quotidien\, de leur engagement\, de leurs aspirations ? De leur relation avec l’Église et les ordres masculins ? La figure de la moniale\, que l’on imagine hors du monde et du temps\, est de celle qui intrigue. Elle fait l’objet de réappropriations artistiques diverses\, parfois subversives\, du cinéma au théâtre\, en passant par la performance burlesque. \nLa mise à l’honneur de ce matrimoine permet d’interroger le mythe et la réalité d’un héritage bien présent\, qui fait écho à nos préoccupations contemporaines : la sobriété\, le don de soi\, le rapport à l’altérité ou encore la place des femmes dans l’histoire et la société. \nDeux expositions sont à découvrir : Dans le silence du carmel. Photographies de Hélène Mastrandréas et Dévoiler. Une vie en miniature (16 septembre 2025 – 22 février 2026). Pour compléter le parcours de visite dans les anciennes cellules\, les carmélites de Montmartre ont accepté de se livrer au travers de cartels sensibles sur leur quotidien\, leur foi\, et leur rapport aux sujets de société. Cette présentation s’intitule Les voies.x du carmel. \nLa programmation vient retracer\, questionner et décaler le récit des 400 ans du carmel de Saint-Denis. Visites guidées\, ateliers\, conférences et spectacles sont à découvrir tout au long de cette célébration. \n  \nLe communiqué de presse est consultable en cliquant ici
URL:https://musee-saint-denis.com/event/le-carmel-de-saint-denis-du-couvent-au-musee/
CATEGORIES:événements
ATTACH;FMTTYPE=image/jpeg:https://musee-saint-denis.com/wp-content/uploads/2014/06/clean1.jpg
END:VEVENT
BEGIN:VEVENT
DTSTART;VALUE=DATE:20250916
DTEND;VALUE=DATE:20260223
DTSTAMP:20260424T085441
CREATED:20250716T132615Z
LAST-MODIFIED:20260223T094630Z
UID:12624-1757980800-1771804799@musee-saint-denis.com
SUMMARY:Exposition | Dans le silence du carmel. Photographies de Hélène Mastrandréas
DESCRIPTION:Hélène Mastrandréas porte son regard sur les minorités\, le handicap et les modes de vie alternatifs\, cherchant à retranscrire l’intime. Elle aime détourner et exploiter les codes d’une féminité parfois galvaudée notamment par les réseaux sociaux. \nUn nouveau champ s’ouvre à elle lorsque\, il y a deux ans\, elle renoue avec P.\, une amie qu’elle avait perdue de vue et qui vit désormais retirée dans un couvent de carmélites. Elle décide de la revoir afin de comprendre son choix de vie. Très vite\, elle lui propose de réaliser des photographies en s’immergeant quelques jours dans son quotidien. Regarder et comprendre. Donner vie à une narration. Capturer des objets rituels\, des lieux\, mais aussi les sœurs et leur prière\, leur communauté close. Chercher à capter l’état de grâce qui anime cette ces femmes\, à la faveur d’une lumière parfois colorée\, parfois irradiante. \nCette exposition propose un voyage inédit au cœur d’un lieu dissimulé de Paris\, au sommet de la butte Montmartre\, dans l’intimité d’un Carmel où vivent dix-sept femmes. \nLe communiqué de presse est consultable en cliquant ici \n  \nBiographie\nHélène Mastrandréas est photographe et réalisatrice diplômée de l’École nationale supérieure des Arts Décoratifs de Paris. \nSon travail s’apparente à une exploration sensible du lien que chacun entretient avec le monde. Elle révèle les émotions enfouies\, les secrets tus\, avec une douceur presque tactile. Dans cet univers poétique et sensoriel\, l’image devient récit : un espace où le personnel prend une dimension universelle.  À travers ses images\, elle donne une voix à l’intime\, capte des fragments d’humanité où les corps se libèrent\, où les apparences se dissipent\, par-delà les normes et les injonctions. Afin de révéler ce qui échappe au regard pressé\, elle élabore un langage visuel singulier\, bercé par les lumières naturelles imprégnées de flou\, de trouble et de tension. \nPubliée dans des magazines comme Purple\, MÉTAL\, Office Magazine NYC\, Les Inrocks\, Fisheye ou À PART\, Hélène Mastrandréas est lauréate en 2022 des bourses du CNC et de Brouillon d’un rêve de La Scam pour son documentaire @devifetishvelvet. Deux ans plus tard\, elle est sélectionnée pour une résidence orchestrée par France Télévisions pour son projet Confrontation. Elle est invitée en 2025 par le musée de Saint-Denis pour sa première exposition personnelle dans une institution muséale. La même année\, elle reçoit une bourse à l’écriture de la Région Sud pour son documentaire Confrontation\, et bénéficie du soutien de la Ville de Paris pour son projet Ce corps qui échappe. \n 
URL:https://musee-saint-denis.com/event/exposition-dans-le-silence-du-carmel-photographies-de-helene-mastrandreas/
CATEGORIES:événements,exposition
ATTACH;FMTTYPE=image/jpeg:https://musee-saint-denis.com/wp-content/uploads/2025/07/carmel-004-scaled.jpg
END:VEVENT
BEGIN:VEVENT
DTSTART;VALUE=DATE:20250916
DTEND;VALUE=DATE:20260223
DTSTAMP:20260424T085441
CREATED:20250828T142429Z
LAST-MODIFIED:20260223T094625Z
UID:12795-1757980800-1771804799@musee-saint-denis.com
SUMMARY:Exposition | Dévoiler. Une vie en miniature
DESCRIPTION:De la fin du 18e siècle aux années 1960\, des milliers de religieuses en Europe ont fabriqué des modèles réduits de leur cellule ou de leur couvent. Elles s’y représentaient en miniature\, sous la forme de poupées de cire\, de silhouettes de papier et de photographies\, au travail ou en prière\, entourées des objets de leur quotidien minutieusement reconstitué. Elles décoraient les parois d’images pieuses et de sentences proclamant l’austérité et la quiétude de leur vie consacrée.\nLa confection des petites cellules est majoritairement féminine. Elle est d’abord liée aux ordres féminins contemplatifs\, qui se dédient à la prière et respectent une clôture stricte. Les carmélites déchaussées sont les principales productrices de cellules\, si emblématiques de leur spiritualité. Les religieuses offraient ces objets à leurs familles et à leurs bienfaiteurs\, afin de donner à voir leur vie de prières\, à l’abri des murs du couvent.\nProduites massivement au 19e siècle\, elles n’ont guère laissé de traces dans les archives des couvents\, à part leur présence\, muette et pourtant si parlante. À la croisée de l’histoire des femmes\, du travail\, de la culture matérielle et de\nl’enfermement monastique\, l’exposition éclaire l’histoire de ces objets insolites et méconnus\, sans en épuiser le pouvoir de fascination. \nLe commissariat a été réalisé en collaboration avec les historiennes Élisabeth Lusset et Isabelle Heullant Donat. Elles ont publié aux Éditions de la Sorbonne l’ouvrage Une vie en boîte. Cellules de religieuses et maquettes de couvent (18e-21e siècle)\, en vente à la boutique du musée.\nL’exposition a été réalisée avec la participation de l’association Trésors de Ferveur\, dont le catalogue Cellules de nonnes est également en vente à la boutique du musée.\nElle bénéficie du soutien de la maison À Paris chez Antoinette Poisson. \nLe communiqué de presse est consultable en cliquant ici
URL:https://musee-saint-denis.com/event/exposition-devoiler-une-vie-en-miniature/
CATEGORIES:événements,exposition
ATTACH;FMTTYPE=image/png:https://musee-saint-denis.com/wp-content/uploads/2025/09/82_29_01_resultat-removebg-preview.png
END:VEVENT
BEGIN:VEVENT
DTSTART;VALUE=DATE:20250916
DTEND;VALUE=DATE:20260223
DTSTAMP:20260424T085441
CREATED:20250828T145100Z
LAST-MODIFIED:20260223T094618Z
UID:12797-1757980800-1771804799@musee-saint-denis.com
SUMMARY:LES VOIES∙X DU CARMEL
DESCRIPTION:Consacrer sa vie entière à la prière et à la communauté\, dans la clôture d’un monastère\, est un choix qui peut intriguer\, surprendre voire dérouter. Cet engagement est d’autant plus inattendu qu’il se manifeste en plein cœur de Paris\, dans un quartier autrefois populaire devenu ultra-touristique. Installé derrière le Sacré-Cœur depuis 1928\, le carmel de Montmartre accueille aujourd’hui une vingtaine de femmes. L’équipe du musée leur a proposé de s’emparer des objets et de l’histoire de l’ancien carmel de Saint-Denis\, pour raconter leurs journées rythmées par la foi. Ensemble\, elles ont rédigé des « cartels subjectifs »\, en réponse aux questions que chacun et chacune\, évoluant dans la vie civile\, peut se poser. Cette parole\, motivée par une volonté de partage\, constitue un précieux témoignage sur les valeurs\, les aspirations et le quotidien de ces femmes volontairement retirées de la société et silencieuses. En dehors de tout prosélytisme\, elles relaient un certain point de vue sur le monde\, nourri par leur spiritualité et par un dévouement profond\, semblable à celui des fondatrices du carmel de Saint-Denis il y a quatre siècles. \nLe communiqué de presse est consultable en cliquant ici
URL:https://musee-saint-denis.com/event/les-voies%e2%88%99x-du-carmel/
CATEGORIES:événements,exposition
ATTACH;FMTTYPE=image/png:https://musee-saint-denis.com/wp-content/uploads/2025/10/Affiche-32x45_Carmel_2-BD.png
END:VEVENT
BEGIN:VEVENT
DTSTART;VALUE=DATE:20250920
DTEND;VALUE=DATE:20250922
DTSTAMP:20260424T085441
CREATED:20250901T093732Z
LAST-MODIFIED:20250917T093352Z
UID:12819-1758326400-1758499199@musee-saint-denis.com
SUMMARY:Journées européennes du patrimoine
DESCRIPTION:À l’occasion des 42ème Journées européennes du patrimoine\, le patrimoine architectural est mis à l’honneur entre réalisations artistiques et techniques de l’architecture. Le musée met les petits plats dans les grands. Conférence\, visites\, spectacle : nul doute que vous trouverez votre bonheur ! \n  \nEn continu : atelier participatif dans la cour de la chapelle\, et régalez-vous auprès du stand de l’association des Bretons de Saint-Denis ! \n  \nSamedi | 11h et 16h30 \nDimanche | 16h30 \nAtelier en famille – La chambre miniature \n  \nSamedi | 11h30 \nDimanche | 15h – en présence de Hélène Mastrandréas\, photograpghe \nVisite guidée – Un carmel devenu musée \n  \nSamedi | 14h30 et 17h \nDimanche | 14h30 \nVisite guidée – Les incontournables du musée \n  \nSamedi | 15h \nSentences\, proverbes et punchlines : parcours poétique au musée \nBienvenue dans un « musée de mots »\, sous les auspices d’Eluard\, poète de l’amour\, de l’engagement et du jeu ! Le linguiste Julien Barret propose une balade poétique sur le thème de la forme brève\, depuis l’Empire romain jusqu’aux punchlines de NTM. En confrontant les proverbes dada et surréalistes avec les sentences écrites sur les murs du carmel\, mes visiteur.euses sont invité.es à jouer avec les mots. \n  \nDimanche | de 14h à 18h30 \nSurprise ! Les Sœurs de la Perpétuelle Indulgence du Couvent de Paris\, dans la joie et la bienveillance\, viennent honorer le carmel de leur présence le dimanche de 14h à 18h30. Sœurs d’un autre genre\, elles prônent la tolérance et font de la prévention en santé sexuelle. Ayant fait vœu de droit et de devoir de mémoire\, elles proposent aux visiteurs de participer à la plus grande œuvre d’art collective du monde\, le patchwork des noms. Elles participent à la visite guidée de 15h. \n  \nDimanche | de 16h à 18h \nInterventions musicales par le conservatoire de Saint-Denis \nLe chœur résonnance du conservatoire de Saint-Denis s’associe à trois chanteurs professionnels pour célébrer l’influence du répertoire musical religieux. Au programme : plain-chant et psaumes du 17e siècle français\, découverte d’instruments anciens et extraits des Dialogues des carmélites\, opéra de Francis Poulenc\, créé en 1957.
URL:https://musee-saint-denis.com/event/journees-europeennes-du-patrimoine-2/
CATEGORIES:événements,visites balades ateliers
ATTACH;FMTTYPE=image/webp:https://musee-saint-denis.com/wp-content/uploads/2025/09/Affiche.webp
END:VEVENT
END:VCALENDAR